BEGIN:VCALENDAR
VERSION:2.0
PRODID:-//Black and Brown Women&#039;s Alliance - ECPv6.15.20//NONSGML v1.0//EN
CALSCALE:GREGORIAN
METHOD:PUBLISH
X-ORIGINAL-URL:https://www.blackwomensalliance.com
X-WR-CALDESC:Events for Black and Brown Women&#039;s Alliance
REFRESH-INTERVAL;VALUE=DURATION:PT1H
X-Robots-Tag:noindex
X-PUBLISHED-TTL:PT1H
BEGIN:VTIMEZONE
TZID:America/Denver
BEGIN:DAYLIGHT
TZOFFSETFROM:-0700
TZOFFSETTO:-0600
TZNAME:MDT
DTSTART:20210314T090000
END:DAYLIGHT
BEGIN:STANDARD
TZOFFSETFROM:-0600
TZOFFSETTO:-0700
TZNAME:MST
DTSTART:20211107T080000
END:STANDARD
BEGIN:DAYLIGHT
TZOFFSETFROM:-0700
TZOFFSETTO:-0600
TZNAME:MDT
DTSTART:20220313T090000
END:DAYLIGHT
BEGIN:STANDARD
TZOFFSETFROM:-0600
TZOFFSETTO:-0700
TZNAME:MST
DTSTART:20221106T080000
END:STANDARD
BEGIN:DAYLIGHT
TZOFFSETFROM:-0700
TZOFFSETTO:-0600
TZNAME:MDT
DTSTART:20230312T090000
END:DAYLIGHT
BEGIN:STANDARD
TZOFFSETFROM:-0600
TZOFFSETTO:-0700
TZNAME:MST
DTSTART:20231105T080000
END:STANDARD
END:VTIMEZONE
BEGIN:VEVENT
DTSTART;TZID=America/Denver:20220211T163000
DTEND;TZID=America/Denver:20220213T110000
DTSTAMP:20260424T121810
CREATED:20220117T134553Z
LAST-MODIFIED:20220117T134553Z
UID:10000010-1644597000-1644750000@www.blackwomensalliance.com
SUMMARY:Be still and... A retreat for Black Women
DESCRIPTION:Details\n\nOh\, you heard it too…that still\, small voice asking you to pause. The one telling you there is more. The one inviting you to take up space. The one calling you to come back to yourself….your truest self. Maybe she has been hiding\, maybe she has been dimming her light\, maybe she is just starting to heal\, or has been on her journey for a while. What is your relationship to stillness and rest? How do you cultivate and tend to that practice? If you are curious about a stillness practice\, or are seeking to deepen your practice of stillness and rest to expand into yourself fully\, or you are somewhere in between\, this retreat is just for you. \nThe weekend… \nExploring practices like Restorative\, Yin\, Slow Flow Vinyasa\, guided meditation and Nidra. We will gather Friday between 4:30 and 5:15 to settle into our guest home with reflective space\, restorative yoga and rest practice\, closing by breaking bread with each other. Saturday we will rise with a gentle slow flow\, breakfast that will gently transition into reflective time. After lunch we’ll ground through a guided meditation that awakens our creative potential with space to explore your artistic side with an optional art project. Saturday will close with an early dinner\, reflective space/ sister circle journal session. Then settle in for the evening with a gentle yin flow and Nidra session. Sunday we will practice a moving meditation with rounds of Surya Namaskar with breakfast and a closing sister circle. \nThe stages… \nFriday: Gather \n4:00-5:45pm Check-in \n6:05-6:15 Orientation \n6:15-6:30 Opening Circle \n6:30-7:30 Dinner \n8:00-9:30 Restorative Yoga Introduction & Rest practice \n10:30 Quiet Time \nSaturday: Deepen \n7:00- 8:00am Clear Away -Slow Flow \n8:00-9:00 Breakfast \n9:00-10:00 Free Time \n10:00-11:30 Reflect & Release & Rest (workshop and practice) \n12:00-1:00 pm Lunch \n1:00-3:00 Create & Liberate- Meditation creative play/art project \n3:00-4:30 Free Time \n*Snacks available* \n4:30-5:45 Dinner \n6:00-7:00 Reflect & Release & Rest Pods \n8:00- 9:30 Talking Circle/Listening Circle/ Journal and Yin flow \nNidra session \n10:00pm Quiet Time / Packing \nSunday: Release \n*optional 6:00-7:00 am Surya Namaskar moving meditation \n7:00-8:00 Breakfast \n8:00-9:00 Free time/Packing \n9:30-10:30 Closing Circle \n10:30 – 11:00 Departure \nIncluded… \n-Five semi-private yoga sessions inviting you to cultivate a deeper connection to rest and stillness.\n-Three curated personal workshops exploring ways to invite clarity and creativity through rest and stillness.\n-Our menus for the weekend will be plant based\, with vegan options available. Friday a warm welcoming dinner will be shared. Saturday you’ll enjoy three high quality\, organic meals\, with plenty of snacks\, drinks and water. Sunday\, a comforting breakfast will be shared before departure.\n-All yoga supplies and props will be available (yoga mat\, bolsters\, blankets\, blocks etc). You may also bring and use your own. Eye Pillows will also be provided however please feel free to bring your own.\n-All art materials\, journals and pens for creative expression and self reflections. \nVisit: www.theblackunicorncollective.com to register. Marking attend on the meet up page\, without registering through Black Unicorn Collective\, WILL NOT hold your spot. \nI’m Steph\, I’ve been practicing yoga since 2010 and teaching since 2018. I have both a 200hr ytt and 300 hr ytt under my belt. As well as many additional training in restorative\, yin\, meditation and nidra. I’m so very excited to share this offering with you all\, knowing how powerful and transformative a cultivated rest practice can be. \n\n\n\n\n\nCOVID-19 safety measures\n\n\n\nCOVID 19 vaccination required\n\n\n\nNegative COVID test 48hrs prior to start of retreat & copy/proof of vaccination required. \nSafety measures instituted by event host. Meetup is not responsible for ensuring that precautions are followed.
URL:https://www.blackwomensalliance.com/event/be-still-and-a-retreat-for-black-women/
LOCATION:Idaho Springs\, Idaho Springs\, CO\, United States
END:VEVENT
END:VCALENDAR